BEGIN:VCALENDAR
VERSION:2.0
PRODID:-//Urja - ECPv5.16.4//NONSGML v1.0//EN
CALSCALE:GREGORIAN
METHOD:PUBLISH
X-ORIGINAL-URL:https://www.urjahospital.com
X-WR-CALDESC:Events for Urja
REFRESH-INTERVAL;VALUE=DURATION:PT1H
X-Robots-Tag:noindex
X-PUBLISHED-TTL:PT1H
BEGIN:VTIMEZONE
TZID:UTC
BEGIN:STANDARD
TZOFFSETFROM:+0000
TZOFFSETTO:+0000
TZNAME:UTC
DTSTART:20220101T000000
END:STANDARD
END:VTIMEZONE
BEGIN:VEVENT
DTSTART;TZID=UTC:20220925T080000
DTEND;TZID=UTC:20221025T170000
DTSTAMP:20260423T215335
CREATED:20220908T055626Z
LAST-MODIFIED:20220908T055804Z
UID:2157-1664092800-1666717200@www.urjahospital.com
SUMMARY:Anniversary Month
DESCRIPTION:We will be celebration our Hospital anniversary on 25th October. It will not be a one day event but\, one month celebration. Come and join us in this celebration.
URL:https://www.urjahospital.com/event/anniversary-month/
LOCATION:Urja Multispeciality Hospital\, Shivkrupa residency\, New Vatva\, Ahemdabad\, Gujarat\, India
END:VEVENT
END:VCALENDAR